BEGIN:VCALENDAR
VERSION:2.0
PRODID:-//ChamberMaster//Event Calendar 2.0//EN
METHOD:PUBLISH
X-PUBLISHED-TTL:P3D
REFRESH-INTERVAL:P3D
CALSCALE:GREGORIAN
BEGIN:VEVENT
DTSTART:20110420T130000Z
DTEND:20110420T213000Z
X-MICROSOFT-CDO-ALLDAYEVENT:FALSE
SUMMARY:Leadership Beatrice Class Day
DESCRIPTION:Leadership Beatrice Class 5\n\nHealth & Human Services Day\n\n\n\nWednesday\, April 20\n\n8 am - 4:30 pm
X-ALT-DESC;FMTTYPE=text/html:Leadership Beatrice Class 5<br />\nHealth &amp\; Human Services Day<br />\n<br />\nWednesday\, April 20<br />\n8 am - 4:30 pm<br />\n<br />\n
LOCATION:
UID:e.41.4416
SEQUENCE:3
DTSTAMP:20260424T195046Z
URL:https://business.beatricechamber.com/events/details/leadership-beatrice-class-day-04-20-2011-4416
END:VEVENT

END:VCALENDAR
