BEGIN:VCALENDAR
VERSION:2.0
PRODID:-//ChamberMaster//Event Calendar 2.0//EN
METHOD:PUBLISH
X-PUBLISHED-TTL:P3D
REFRESH-INTERVAL:P3D
CALSCALE:GREGORIAN
BEGIN:VEVENT
DTSTART:20120421T150000Z
DTEND:20120421T190000Z
X-MICROSOFT-CDO-ALLDAYEVENT:FALSE
SUMMARY:Leadership Beatrice "Don't Just Park It\, Let's Move!"
DESCRIPTION:WHO: Youth 12 & Under and their family members who want to "Get Moving!" \n\n*There must be at least one participating adult (over 18) per family. Families participating in this event are responsible for providing their own transportation.\n\n\n\nBEGIN: 10:00AM at Riverside Park\, Main Shelter\n\n* Register and receive your family's official "Parks Passport" and a Parks Map.\n\n* Follow your Parks Map to seven Beatrice City Parks. Participate in a free activity at each park and have your passport "stamped" by a volunteer at each park.\n\n* Additional free activity at Riverside Park: Gage County PATCH Trail Walk!\n\n* EXPLORE what's available at each park and HAVE FUN!\n\n\n\nEND: 2:00PM at YMCA\, Prairie Playground Shelter\n\n* Free fruit and water for participating families!\n\n* Youth returning their family's Parks Passport by 2:00pm with at least six stamps will receive a free goodie bag and t-shirt (One goodie bag and shirt per child 12 and under\, while supplies last.)\n\n* Families with at least six stamps are registered to win cool prizes! (Drawing at 2pm)
X-ALT-DESC;FMTTYPE=text/html:WHO: Youth 12 &amp\; Under and their family members who want to &quot\;Get Moving!&quot\;&nbsp\;<br />\n*There must be at least one participating adult (over 18) per family. Families participating in this event are responsible for providing their own transportation.<br />\n<br />\nBEGIN: 10:00AM at Riverside Park\, Main Shelter<br />\n* Register and receive your family&#39\;s official &quot\;Parks Passport&quot\; and a Parks Map.<br />\n* Follow your Parks Map to seven Beatrice City Parks. Participate in a free activity at each park and have your passport &quot\;stamped&quot\; by a volunteer at each park.<br />\n* Additional free activity at Riverside Park: Gage County PATCH Trail Walk!<br />\n* EXPLORE what&#39\;s available at each park and HAVE FUN!<br />\n<br />\nEND: 2:00PM at YMCA\, Prairie Playground Shelter<br />\n* Free fruit and water for participating families!<br />\n* Youth returning their family&#39\;s Parks Passport by 2:00pm with at least six stamps will receive a free goodie bag and t-shirt (One goodie bag and shirt per child 12 and under\, while supplies last.)<br />\n* Families with at least six stamps are registered to win cool prizes! (Drawing at 2pm)
LOCATION:Beatrice City Parks. Registration begins at 10am at Riverside. Prize drawings will be held at 2pm at YMCA\, Prairie Playground Shelter.
UID:e.41.5405
SEQUENCE:3
DTSTAMP:20260422T155014Z
URL:https://business.beatricechamber.com/events/details/leadership-beatrice-don-t-just-park-it-let-s-move-04-21-2012-5405
END:VEVENT

END:VCALENDAR
