BEGIN:VCALENDAR
VERSION:2.0
PRODID:-//ChamberMaster//Event Calendar 2.0//EN
METHOD:PUBLISH
X-PUBLISHED-TTL:P3D
REFRESH-INTERVAL:P3D
CALSCALE:GREGORIAN
BEGIN:VEVENT
DTSTART;VALUE=DATE:20110830
DTEND;VALUE=DATE:20110831
TRANSP:TRANSPARENT
X-MICROSOFT-CDO-ALLDAYEVENT:TRUE
SUMMARY:Leadership Beatrice Orientation
DESCRIPTION:2011-2012 Leadership Beatrice Class\n\n	ORIENTATION\n\n	\n\n	For more information on joining Leadership Beatrice\, call Beatrice Area Chamber of Commerce\, 402-223-2338.\n\n	www.beatricechamber.com
X-ALT-DESC;FMTTYPE=text/html:<p>\n	2011-2012 Leadership Beatrice Class<br />\n	ORIENTATION<br />\n	<br />\n	For more information on joining Leadership Beatrice\, call Beatrice Area Chamber of Commerce\, 402-223-2338.<br />\n	www.beatricechamber.com<br />\n	<br />\n	&nbsp\;</p>\n
LOCATION:
UID:e.41.5037
SEQUENCE:3
DTSTAMP:20260424T134428Z
URL:https://business.beatricechamber.com/events/details/leadership-beatrice-orientation-08-30-2011-5037
END:VEVENT

END:VCALENDAR
