BEGIN:VCALENDAR
VERSION:2.0
PRODID:-//ChamberMaster//Event Calendar 2.0//EN
METHOD:PUBLISH
X-PUBLISHED-TTL:P3D
REFRESH-INTERVAL:P3D
CALSCALE:GREGORIAN
BEGIN:VEVENT
DTSTART:20110309T180000Z
DTEND:20110309T190000Z
X-MICROSOFT-CDO-ALLDAYEVENT:FALSE
SUMMARY:Leadership Beatrice Planning Committee
DESCRIPTION:Leadership Beatrice Planning Committee Meeting\n\nWednesday\, March 9\n\nNoon - 1 p.m.\n\n\n\nBeatrice Area Chamber of Commerce Auditorium Conference Room\n\n205 N 4th Street\, Beatrice
X-ALT-DESC;FMTTYPE=text/html:Leadership Beatrice Planning Committee Meeting<br />\nWednesday\, March 9<br />\nNoon - 1 p.m.<br />\n<br />\nBeatrice Area Chamber of Commerce Auditorium Conference Room<br />\n205 N 4th Street\, Beatrice<br />\n<br />\n
LOCATION:
UID:e.41.4198
SEQUENCE:3
DTSTAMP:20260424T211830Z
URL:https://business.beatricechamber.com/events/details/leadership-beatrice-planning-committee-03-09-2011-4198
END:VEVENT

END:VCALENDAR
