BEGIN:VCALENDAR
VERSION:2.0
PRODID:-//ChamberMaster//Event Calendar 2.0//EN
METHOD:PUBLISH
X-PUBLISHED-TTL:P3D
REFRESH-INTERVAL:P3D
CALSCALE:GREGORIAN
BEGIN:VEVENT
DTSTART;VALUE=DATE:20111109
DTEND;VALUE=DATE:20111110
TRANSP:TRANSPARENT
X-MICROSOFT-CDO-ALLDAYEVENT:TRUE
SUMMARY:Leadership Beatrice Planning Committee
DESCRIPTION:Leadership Beatrice Planning Committee\n\n\n\nWednesday\, November 9\n\nNoon - 1 pm\n\n\n\nBeatrice Area Chamber of Commerce Conference Room\n\n205 N 4th Street\n\n\n\n\n\nwww.beatricechamber.com
X-ALT-DESC;FMTTYPE=text/html:Leadership Beatrice Planning Committee<br />\n<br />\nWednesday\, November 9<br />\nNoon - 1 pm<br />\n<br />\nBeatrice Area Chamber of Commerce Conference Room<br />\n205 N 4th Street<br />\n<br />\n<br />\n<a href="http://www.beatricechamber.com">www.beatricechamber.com</a>
LOCATION:
UID:e.41.5221
SEQUENCE:3
DTSTAMP:20260424T111004Z
URL:https://business.beatricechamber.com/events/details/leadership-beatrice-planning-committee-11-09-2011-5221
END:VEVENT

END:VCALENDAR
