BEGIN:VCALENDAR
VERSION:2.0
PRODID:-//ChamberMaster//Event Calendar 2.0//EN
METHOD:PUBLISH
X-PUBLISHED-TTL:P3D
REFRESH-INTERVAL:P3D
CALSCALE:GREGORIAN
BEGIN:VEVENT
DTSTART:20110112T180000Z
DTEND:20110112T190000Z
X-MICROSOFT-CDO-ALLDAYEVENT:FALSE
SUMMARY:Leadership Beatrice Planning Committee Meeting
DESCRIPTION:LB Planning Committee Meeting\n\nWednesday\, January 12th\n\nNoon\n\n\n\nBeatrice City Auditorium Conference Room\, 205 N 4th Street
X-ALT-DESC;FMTTYPE=text/html:LB Planning Committee Meeting<br />\nWednesday\, January 12th<br />\nNoon<br />\n<br />\nBeatrice City Auditorium Conference Room\, 205 N 4th Street
LOCATION:
UID:e.41.3173
SEQUENCE:3
DTSTAMP:20260425T003901Z
URL:https://business.beatricechamber.com/events/details/leadership-beatrice-planning-committee-meeting-01-12-2011-3173
END:VEVENT

END:VCALENDAR
