BEGIN:VCALENDAR
VERSION:2.0
PRODID:-//ChamberMaster//Event Calendar 2.0//EN
METHOD:PUBLISH
X-PUBLISHED-TTL:P3D
REFRESH-INTERVAL:P3D
CALSCALE:GREGORIAN
BEGIN:VEVENT
DTSTART:20110209T180000Z
DTEND:20110209T190000Z
X-MICROSOFT-CDO-ALLDAYEVENT:FALSE
SUMMARY:Leadership Beatrice Planning Committee Meeting
DESCRIPTION:Leadership Beatrice Planning Commitee Meeting\n\n\n\nMeets monthly 1st Monday of the Month*\n\n*Contact Beatrice Area Chamber of Commerce for details.  (402)223-2338\n\n\n\nNoon - 1 p.m.\n\nBeatrice Area Chamber of Commerce\, City Auditorium Conference Room\, 205 N 4th Street\, Beatrice
X-ALT-DESC;FMTTYPE=text/html:Leadership Beatrice Planning Commitee Meeting<br />\n<br />\nMeets monthly 1st Monday of the Month*<br />\n*Contact Beatrice Area Chamber of Commerce for details.&nbsp\; (402)223-2338<br />\n<br />\nNoon - 1 p.m.<br />\nBeatrice Area Chamber of Commerce\, City Auditorium Conference Room\, 205 N 4th Street\, Beatrice<br />\n<br />\n
LOCATION:
UID:e.41.3768
SEQUENCE:3
DTSTAMP:20260424T225900Z
URL:https://business.beatricechamber.com/events/details/leadership-beatrice-planning-committee-meeting-02-09-2011-3768
END:VEVENT

END:VCALENDAR
