BEGIN:VCALENDAR
VERSION:2.0
PRODID:-//ChamberMaster//Event Calendar 2.0//EN
METHOD:PUBLISH
X-PUBLISHED-TTL:P3D
REFRESH-INTERVAL:P3D
CALSCALE:GREGORIAN
BEGIN:VEVENT
DTSTART:20110331T130000Z
DTEND:20110331T220000Z
X-MICROSOFT-CDO-ALLDAYEVENT:FALSE
SUMMARY:Leadership Beatrice State Government Day
DESCRIPTION:Leadership Beatrice Class 5\n\nState Government Day\n\n\n\n8 a.m. - 5 p.m.
X-ALT-DESC;FMTTYPE=text/html:Leadership Beatrice Class 5<br />\nState Government Day<br />\n<br />\n8 a.m. - 5 p.m.
LOCATION:
UID:e.41.4199
SEQUENCE:3
DTSTAMP:20260424T212141Z
URL:https://business.beatricechamber.com/events/details/leadership-beatrice-state-government-day-03-31-2011-4199
END:VEVENT

END:VCALENDAR
