BEGIN:VCALENDAR
VERSION:2.0
PRODID:-//ChamberMaster//Event Calendar 2.0//EN
METHOD:PUBLISH
X-PUBLISHED-TTL:P3D
REFRESH-INTERVAL:P3D
CALSCALE:GREGORIAN
BEGIN:VEVENT
DTSTART:20091116T180000Z
DTEND:20091116T190000Z
X-MICROSOFT-CDO-ALLDAYEVENT:FALSE
SUMMARY:Leadership Committee
DESCRIPTION:
X-ALT-DESC;FMTTYPE=text/html:
LOCATION:Chamber of Commerce OfficeConference Room Noon
UID:e.41.1514
SEQUENCE:3
DTSTAMP:20260425T204701Z
URL:https://business.beatricechamber.com/events/details/leadership-committee-11-16-2009-1514
END:VEVENT

END:VCALENDAR
