BEGIN:VCALENDAR
VERSION:2.0
PRODID:-//ChamberMaster//Event Calendar 2.0//EN
METHOD:PUBLISH
X-PUBLISHED-TTL:P3D
REFRESH-INTERVAL:P3D
CALSCALE:GREGORIAN
BEGIN:VEVENT
DTSTART:20090916T130000Z
DTEND:20090916T213000Z
X-MICROSOFT-CDO-ALLDAYEVENT:FALSE
SUMMARY:Leadership Day
DESCRIPTION:Homestead National Monument
X-ALT-DESC;FMTTYPE=text/html:<div>Homestead National Monument</div>
LOCATION:
UID:e.41.1403
SEQUENCE:3
DTSTAMP:20260425T234605Z
URL:https://business.beatricechamber.com/events/details/leadership-day-09-16-2009-1403
END:VEVENT

END:VCALENDAR
