BEGIN:VCALENDAR
VERSION:2.0
PRODID:-//ChamberMaster//Event Calendar 2.0//EN
METHOD:PUBLISH
X-PUBLISHED-TTL:P3D
REFRESH-INTERVAL:P3D
CALSCALE:GREGORIAN
BEGIN:VEVENT
DTSTART:20091021T130000Z
DTEND:20091021T213000Z
X-MICROSOFT-CDO-ALLDAYEVENT:FALSE
SUMMARY:Leadership Day
DESCRIPTION:Education Day
X-ALT-DESC;FMTTYPE=text/html:<div>Education Day</div>
LOCATION:
UID:e.41.1464
SEQUENCE:3
DTSTAMP:20260425T221112Z
URL:https://business.beatricechamber.com/events/details/leadership-day-10-21-2009-1464
END:VEVENT

END:VCALENDAR
