BEGIN:VCALENDAR
VERSION:2.0
PRODID:-//ChamberMaster//Event Calendar 2.0//EN
METHOD:PUBLISH
X-PUBLISHED-TTL:P3D
REFRESH-INTERVAL:P3D
CALSCALE:GREGORIAN
BEGIN:VEVENT
DTSTART:20091119T200000Z
DTEND:20091121T010000Z
X-MICROSOFT-CDO-ALLDAYEVENT:FALSE
SUMMARY:Leadership Retreat
DESCRIPTION:Leadership Beatrice RetreatCamp Kitaki Thursday 2-7 pmFriday 8 am - 3 pm
X-ALT-DESC;FMTTYPE=text/html:<div>Leadership&nbsp\;Beatrice Retreat</div><div>Camp Kitaki</div><div>&nbsp\;</div><div>Thursday 2-7 pm</div><div>Friday 8 am - 3 pm</div>
LOCATION:
UID:e.41.1518
SEQUENCE:3
DTSTAMP:20260425T204730Z
URL:https://business.beatricechamber.com/events/details/leadership-retreat-11-19-2009-1518
END:VEVENT

END:VCALENDAR
