BEGIN:VCALENDAR
VERSION:2.0
PRODID:-//ChamberMaster//Event Calendar 2.0//EN
METHOD:PUBLISH
X-PUBLISHED-TTL:P3D
REFRESH-INTERVAL:P3D
CALSCALE:GREGORIAN
BEGIN:VEVENT
DTSTART:20110604T003000Z
DTEND:20110605T023000Z
X-MICROSOFT-CDO-ALLDAYEVENT:FALSE
SUMMARY:Leading Ladies
DESCRIPTION:A pair of out of work actors dawn dresses to pose as long lost heirs in this fast-paced farce from the author or "Lend Me A Tenor" and "Moon Over Buffalo".
X-ALT-DESC;FMTTYPE=text/html:A pair of out of work actors dawn dresses to pose as long lost heirs in this fast-paced farce from the author or "Lend Me A Tenor" and "Moon Over Buffalo".
LOCATION:Beatrice Community Players
UID:e.41.1694
SEQUENCE:3
DTSTAMP:20260424T165457Z
URL:https://business.beatricechamber.com/events/details/leading-ladies-06-03-2011-1694
END:VEVENT

END:VCALENDAR
