BEGIN:VCALENDAR
VERSION:2.0
PRODID:-//ChamberMaster//Event Calendar 2.0//EN
METHOD:PUBLISH
X-PUBLISHED-TTL:P3D
REFRESH-INTERVAL:P3D
CALSCALE:GREGORIAN
BEGIN:VEVENT
DTSTART;VALUE=DATE:20110723
DTEND;VALUE=DATE:20110724
TRANSP:TRANSPARENT
X-MICROSOFT-CDO-ALLDAYEVENT:TRUE
SUMMARY:Learn about German Immigration at Homestead
DESCRIPTION:Jerry Fox discusses German immigration through folk songs July 23 at 7 p.m.  Jerry Fox is a retired German and French Professor at the University of Kearney.  He will explain why Germans left their homeland and came here\, and why their assimilation became so important for America.\n\n\n\nCampfire programs start at 7 p.m. and last approximately one hour.  Guests are encouraged to bring lawn chairs and insect repellant for comfort.  All programs are hosted at the monument's Education Center.  In case of inclement weather the programs will be held inside.\n\n\n\nFor more information\, call 402-223-3514 or visit www.nps.gov/home.  The Homestead National Monument of America is a unit of the National Park System located 4 miles west of Beatrice on State Highway 4.  The visitor center's hours are 8:30 a.m.-6 p.m. daily.  Admission is free of charge.
X-ALT-DESC;FMTTYPE=text/html:Jerry Fox discusses German immigration through folk songs July 23 at 7 p.m.&nbsp\; Jerry Fox is a retired German and French Professor at the University of Kearney.&nbsp\; He will explain why Germans left their homeland and came here\, and why their assimilation became so important for America.<br />\n<br />\nCampfire programs start at 7 p.m. and last approximately one hour.&nbsp\; Guests are encouraged to bring lawn chairs and insect repellant for comfort.&nbsp\; All programs are hosted at the monument&#39\;s Education Center.&nbsp\; In case of inclement weather the programs will be held inside.<br />\n<br />\nFor more information\, call 402-223-3514 or visit <a href="http://www.nps.gov/home">www.nps.gov/home</a>.&nbsp\; The Homestead National Monument of America is a unit of the National Park System located 4 miles west of Beatrice on State Highway 4.&nbsp\; The visitor center&#39\;s hours are 8:30 a.m.-6 p.m. daily.&nbsp\; Admission is free of charge.
LOCATION:
UID:e.41.4966
SEQUENCE:3
DTSTAMP:20260424T153217Z
URL:https://business.beatricechamber.com/events/details/learn-about-german-immigration-at-homestead-07-23-2011-4966
END:VEVENT

END:VCALENDAR
