BEGIN:VCALENDAR
VERSION:2.0
PRODID:-//ChamberMaster//Event Calendar 2.0//EN
METHOD:PUBLISH
X-PUBLISHED-TTL:P3D
REFRESH-INTERVAL:P3D
CALSCALE:GREGORIAN
BEGIN:VEVENT
DTSTART:20101211T190000Z
DTEND:20101211T190000Z
X-MICROSOFT-CDO-ALLDAYEVENT:FALSE
SUMMARY:Learn about our nation's National Christmas Tree:
DESCRIPTION:Learn about our nation's National Christmas Tree:\n\n\n\n1 p.m.\, Homestead National Monument of America Education Center. Program by Girls\, Inc. in Omaha\, who were chosen to create ornaments with a professional artist for the Nebraska tree and National Christmas Tree in Washington\, D.C. Czech Dancers from Wilber will also entertain. Open 9 a.m.-5 p.m. today. 223-3514
X-ALT-DESC;FMTTYPE=text/html:<strong>Learn about our nation&#39\;s National Christmas Tree:<br />\n<br />\n1 p.m.\, Homestead National Monument of America Education Center. Program by Girls\, Inc. in Omaha\, who were chosen to create ornaments with a professional artist for the Nebraska tree and National Christmas Tree in Washington\, D.C. Czech Dancers from Wilber will also entertain. Open 9 a.m.-5 p.m. today. 223-3514</strong><br />\n
LOCATION:
UID:e.41.2905
SEQUENCE:3
DTSTAMP:20260425T015221Z
URL:https://business.beatricechamber.com/events/details/learn-about-our-nation-s-national-christmas-tree-12-11-2010-2905
END:VEVENT

END:VCALENDAR
