BEGIN:VCALENDAR
VERSION:2.0
PRODID:-//ChamberMaster//Event Calendar 2.0//EN
METHOD:PUBLISH
X-PUBLISHED-TTL:P3D
REFRESH-INTERVAL:P3D
CALSCALE:GREGORIAN
BEGIN:VEVENT
DTSTART;VALUE=DATE:20101211
DTEND;VALUE=DATE:20101212
TRANSP:TRANSPARENT
X-MICROSOFT-CDO-ALLDAYEVENT:TRUE
SUMMARY:Learn about our nation's National Christmas Tree:
DESCRIPTION:Learn about our nation's National Christmas Tree:\n\n\n\n1 p.m.\, homestead National Monument of America Education Center. Program by Girls\, Inc. in Omaha\, who were chosen to create ornaments with a professional artist for the Nebraska tree and National Christmas Tree in Washington D.C. Czech Dancers fronm Wilber will also entertain. Open 9 a.m.- 5 p.m.\n\n223-3514
X-ALT-DESC;FMTTYPE=text/html:<strong><span style="font-size: 14px\;">Learn about our nation&#39\;s National Christmas Tree:</span></strong><br />\n<br />\n1 p.m.\, homestead National Monument of America Education Center. Program by Girls\, Inc. in Omaha\, who were chosen to create ornaments with a professional artist for the Nebraska tree and National Christmas Tree in Washington D.C. Czech Dancers fronm Wilber will also entertain. Open 9 a.m.- 5 p.m.<br />\n223-3514<br />\n
LOCATION:
UID:e.41.2906
SEQUENCE:3
DTSTAMP:20260425T015115Z
URL:https://business.beatricechamber.com/events/details/learn-about-our-nation-s-national-christmas-tree-12-11-2010-2906
END:VEVENT

END:VCALENDAR
