BEGIN:VCALENDAR
VERSION:2.0
PRODID:-//ChamberMaster//Event Calendar 2.0//EN
METHOD:PUBLISH
X-PUBLISHED-TTL:P3D
REFRESH-INTERVAL:P3D
CALSCALE:GREGORIAN
BEGIN:VEVENT
DTSTART:20090913T130000Z
DTEND:20090913T200000Z
X-MICROSOFT-CDO-ALLDAYEVENT:FALSE
SUMMARY:Legion Golf Tourney - Post 27
DESCRIPTION:Bitting-Norman American Legion Post 27 of Beatrice will host its 35th annual golf tournament Sunday\, Sept. 13\, at Hidden Acres Golf Course.The two-person scramble is open to all American Legion\, Auxiliary and Sons of the American Legion members.\n\nRegistration will begin at 8 a.m. with a shotgun start at 9 a.m.\n\nThere will be flag prizes\, flight prizes and an evening supper/banquet for all golfers and their spouses.\n\nEntry fee is $100 per team.\n\nGolfers can sign-up at the American Legion Club\, 701 Dorsey St. Entry deadline is Sept. 1.\n\nFor more information\, contact the club at 223-2700 or Dave Warren at 402-230-9092.
X-ALT-DESC;FMTTYPE=text/html:<div><div class="story"><p>Bitting-Norman American Legion Post 27 of Beatrice will host its 35th annual golf tournament Sunday\, Sept. 13\, at Hidden Acres Golf Course.</p><div class="storyAd-300x250"><!-- AdSys ad not found for sports/local:in_story --></div><p>The two-person scramble is open to all American Legion\, Auxiliary and Sons of the American Legion members.<br /><br />Registration will begin at 8 a.m. with a shotgun start at 9 a.m.<br /><br />There will be flag prizes\, flight prizes and an evening supper/banquet for all golfers and their spouses.<br /><br />Entry fee is $100 per team.<br /><br />Golfers can sign-up at the American Legion Club\, 701 Dorsey St. Entry deadline is Sept. 1.<br /><br />For more information\, contact the club at 223-2700 or Dave Warren at 402-230-9092.</p></div></div>
LOCATION:
UID:e.41.1384
SEQUENCE:3
DTSTAMP:20260425T235026Z
URL:https://business.beatricechamber.com/events/details/legion-golf-tourney-post-27-09-13-2009-1384
END:VEVENT

END:VCALENDAR
