BEGIN:VCALENDAR
VERSION:2.0
PRODID:-//ChamberMaster//Event Calendar 2.0//EN
METHOD:PUBLISH
X-PUBLISHED-TTL:P3D
REFRESH-INTERVAL:P3D
CALSCALE:GREGORIAN
BEGIN:VEVENT
DTSTART:20110913T163000Z
DTEND:20110913T180000Z
X-MICROSOFT-CDO-ALLDAYEVENT:FALSE
SUMMARY:Legislative Luncheon
DESCRIPTION:Nebraska Chamber of Commerce will give an update on the 2011 Legislative Session.
X-ALT-DESC;FMTTYPE=text/html:Nebraska Chamber of Commerce will give an update on the 2011 Legislative Session.
LOCATION:Aunt Mary's Center
UID:e.41.4264
SEQUENCE:3
DTSTAMP:20260424T122826Z
URL:https://business.beatricechamber.com/events/details/legislative-luncheon-09-13-2011-4264
END:VEVENT

END:VCALENDAR
