BEGIN:VCALENDAR
VERSION:2.0
PRODID:-//ChamberMaster//Event Calendar 2.0//EN
METHOD:PUBLISH
X-PUBLISHED-TTL:P3D
REFRESH-INTERVAL:P3D
CALSCALE:GREGORIAN
BEGIN:VEVENT
DTSTART:20120911T170000Z
DTEND:20120911T183000Z
X-MICROSOFT-CDO-ALLDAYEVENT:FALSE
SUMMARY:Legislative Luncheon Update
DESCRIPTION:Legislative Luncheon Update with Nebraska State Chamber of Commerce & Industry\n\n\n\nHear a recap on the Legislature's 2012 session including:\n\n	\n		Economic Development Incentives\n	\n		Competitiveness Rankings\n	\n		Look ahead at next year's session\n	\n		Ask your questions\n	\n		Presented by Barry Kennedy\, State Chamber President\n\n\n	Invited to the event: Congressman Smith\, Senator Wallman\, Senator Karpisek\n\n	Be engaged and informed as a citizen of your city at state! Attend this event!
X-ALT-DESC;FMTTYPE=text/html:Legislative Luncheon Update with Nebraska State Chamber of Commerce &amp\; Industry<br />\n<br />\nHear a recap on the Legislature&#39\;s 2012 session including:\n<ul>\n	<li>\n		Economic Development Incentives</li>\n	<li>\n		Competitiveness Rankings</li>\n	<li>\n		Look ahead at next year&#39\;s session</li>\n	<li>\n		Ask your questions</li>\n	<li>\n		Presented by Barry Kennedy\, State Chamber President</li>\n</ul>\n<p>\n	Invited to the event: Congressman Smith\, Senator Wallman\, Senator Karpisek<br />\n	Be engaged and informed as a citizen of your city at state! Attend this event!</p>\n
LOCATION:Aunt Mary's Center 111 South 8th St. Beatrice\, NE
UID:e.41.6625
SEQUENCE:3
DTSTAMP:20260422T090307Z
URL:https://business.beatricechamber.com/events/details/legislative-luncheon-update-09-11-2012-6625
END:VEVENT

END:VCALENDAR
