BEGIN:VCALENDAR
VERSION:2.0
PRODID:-//ChamberMaster//Event Calendar 2.0//EN
METHOD:PUBLISH
X-PUBLISHED-TTL:P3D
REFRESH-INTERVAL:P3D
CALSCALE:GREGORIAN
BEGIN:VEVENT
DTSTART:20110828T220000Z
DTEND:20110829T010000Z
X-MICROSOFT-CDO-ALLDAYEVENT:FALSE
SUMMARY:Let's Celebrate Prairie Playground
DESCRIPTION:Join us for a fun-filled event to celebrate the fundraising efforts for Prairie Playground.  Food\, prizes\, raffles\, inflatables\, and swimming at the Big Blue Water Park! \n\n\n\n5-8 p.m.\, Admission is $5 per person\, kids 2 and under enter free\, and family admission is $20.\n\n\n\n100% of the proceeds go towards the Prairie Playground funds.
X-ALT-DESC;FMTTYPE=text/html:Join us for a fun-filled event to celebrate the fundraising efforts for Prairie Playground.&nbsp\; Food\, prizes\, raffles\, inflatables\, and swimming at the Big Blue Water Park!&nbsp\;<br />\n<br />\n5-8 p.m.\, Admission is $5 per person\, kids 2 and under enter free\, and family admission is $20.<br />\n<br />\n100% of the proceeds go towards the Prairie Playground funds.
LOCATION:
UID:e.41.5033
SEQUENCE:3
DTSTAMP:20260424T134618Z
URL:https://business.beatricechamber.com/events/details/let-s-celebrate-prairie-playground-08-28-2011-5033
END:VEVENT

END:VCALENDAR
