BEGIN:VCALENDAR
VERSION:2.0
PRODID:-//ChamberMaster//Event Calendar 2.0//EN
METHOD:PUBLISH
X-PUBLISHED-TTL:P3D
REFRESH-INTERVAL:P3D
CALSCALE:GREGORIAN
BEGIN:VEVENT
DTSTART;VALUE=DATE:20110529
DTEND;VALUE=DATE:20110530
TRANSP:TRANSPARENT
X-MICROSOFT-CDO-ALLDAYEVENT:TRUE
SUMMARY:Liberty Alumni Banquet
DESCRIPTION:The Liberty Alumni Banquet will be held May 29\, at the Liberty American Legion. The social hour and registration will begin at 4.30 p.m.\, and dinner will be served at 6 p.m.\n\nTickets are $12.5 each. Make reservations before May 22 by contacting Evelyn Dorn at 402-228-3726\, address 115 Garnville\, Beatrice Ne 68310\; or Kenny Retchless at 402-696-4342\, address16363 E. State Hwy 8\, Liberty NE 68381.
X-ALT-DESC;FMTTYPE=text/html:The Liberty Alumni Banquet will be held May 29\, at the Liberty American Legion. The social hour and registration will begin at 4.30 p.m.\, and dinner will be served at 6 p.m.<br />\nTickets are $12.5 each. Make reservations before May 22 by contacting Evelyn Dorn at 402-228-3726\, address 115 Garnville\, Beatrice Ne 68310\; or Kenny Retchless at 402-696-4342\, address16363 E. State Hwy 8\, Liberty NE 68381.
LOCATION:
UID:e.41.4627
SEQUENCE:3
DTSTAMP:20260424T182404Z
URL:https://business.beatricechamber.com/events/details/liberty-alumni-banquet-05-29-2011-4627
END:VEVENT

END:VCALENDAR
