BEGIN:VCALENDAR
VERSION:2.0
PRODID:-//ChamberMaster//Event Calendar 2.0//EN
METHOD:PUBLISH
X-PUBLISHED-TTL:P3D
REFRESH-INTERVAL:P3D
CALSCALE:GREGORIAN
BEGIN:VEVENT
DTSTART;VALUE=DATE:20110907
DTEND;VALUE=DATE:20110908
TRANSP:TRANSPARENT
X-MICROSOFT-CDO-ALLDAYEVENT:TRUE
SUMMARY:Liberty Women's Auxiliary Dinner
DESCRIPTION:Noon\, Liberty Legion Post #346.  For reservations\, call 402-696-4391\, 402-696-9902 or 402-696-4464.
X-ALT-DESC;FMTTYPE=text/html:Noon\, Liberty Legion Post #346.&nbsp\; For reservations\, call 402-696-4391\, 402-696-9902 or 402-696-4464.
LOCATION:
UID:e.41.5056
SEQUENCE:3
DTSTAMP:20260424T123123Z
URL:https://business.beatricechamber.com/events/details/liberty-women-s-auxiliary-dinner-09-07-2011-5056
END:VEVENT

END:VCALENDAR
