BEGIN:VCALENDAR
VERSION:2.0
PRODID:-//ChamberMaster//Event Calendar 2.0//EN
METHOD:PUBLISH
X-PUBLISHED-TTL:P3D
REFRESH-INTERVAL:P3D
CALSCALE:GREGORIAN
BEGIN:VEVENT
DTSTART;VALUE=DATE:20101103
DTEND;VALUE=DATE:20101104
TRANSP:TRANSPARENT
X-MICROSOFT-CDO-ALLDAYEVENT:TRUE
SUMMARY:Liberty Women's Auxiliary Dinner
DESCRIPTION:Liberty Women's Auxiliary Dinner\n\n\n\n12:00 p.m.\n\n\n\nLiberty Legion Post # 346.\n\n\n\nFor reservations\, call 696-4391\, 696-9902 or 696-4464
X-ALT-DESC;FMTTYPE=text/html:<span style="font-size: 14px"><strong>Liberty Women&#39\;s Auxiliary Dinner</strong></span><br />\n<br />\n12:00 p.m.<br />\n<br />\nLiberty Legion Post # 346.<br />\n<br />\nFor reservations\, call 696-4391\, 696-9902 or 696-4464<br />\n<br />\n
LOCATION:
UID:e.41.2724
SEQUENCE:3
DTSTAMP:20260425T032750Z
URL:https://business.beatricechamber.com/events/details/liberty-women-s-auxiliary-dinner-11-03-2010-2724
END:VEVENT

END:VCALENDAR
