BEGIN:VCALENDAR
VERSION:2.0
PRODID:-//ChamberMaster//Event Calendar 2.0//EN
METHOD:PUBLISH
X-PUBLISHED-TTL:P3D
REFRESH-INTERVAL:P3D
CALSCALE:GREGORIAN
BEGIN:VEVENT
DTSTART;VALUE=DATE:20110812
DTEND;VALUE=DATE:20110813
TRANSP:TRANSPARENT
X-MICROSOFT-CDO-ALLDAYEVENT:TRUE
SUMMARY:Library to Celebrate 20th Anniversary
DESCRIPTION:The Beatrice Public Library will be celebrating its 20th Anniversary at the 16th and Court location.\n\n\n\nSpecial activities begin at 3:30 p.m.  All activities are free of charge and open to the public. \n\n\n\nFor more information on this event\, contact the Library at 402-223-3584.
X-ALT-DESC;FMTTYPE=text/html:The Beatrice Public Library will be celebrating its 20th Anniversary at the 16th and Court location.<br />\n<br />\nSpecial activities begin at 3:30 p.m.&nbsp\; All activities are free of charge and open to the public.&nbsp\;<br />\n<br />\nFor more information on this event\, contact the Library at 402-223-3584.
LOCATION:
UID:e.41.5036
SEQUENCE:3
DTSTAMP:20260424T134703Z
URL:https://business.beatricechamber.com/events/details/library-to-celebrate-20th-anniversary-08-12-2011-5036
END:VEVENT

END:VCALENDAR
