BEGIN:VCALENDAR
VERSION:2.0
PRODID:-//ChamberMaster//Event Calendar 2.0//EN
METHOD:PUBLISH
X-PUBLISHED-TTL:P3D
REFRESH-INTERVAL:P3D
CALSCALE:GREGORIAN
BEGIN:VEVENT
DTSTART:20120225T000000Z
DTEND:20120225T010000Z
X-MICROSOFT-CDO-ALLDAYEVENT:FALSE
SUMMARY:Lincoln Elementary School's 55th Anniversary
DESCRIPTION:Lincoln Elementary School's 55th Anniversary Celebration Open House\n\n	\n\n	Friday\, February 24\n\n	6 - 7 pm\n\n	\n\n	19th & Lincoln Streets\, Beatrice\, NE\n\n	\n\n	Hosted by Lincoln Elementary PTO.  All past and present students and their families welcome.
X-ALT-DESC;FMTTYPE=text/html:<p>\n	Lincoln Elementary School&#39\;s 55th Anniversary Celebration Open House<br />\n	<br />\n	Friday\, February 24<br />\n	6 - 7 pm<br />\n	<br />\n	19th &amp\; Lincoln Streets\, Beatrice\, NE<br />\n	<br />\n	Hosted by Lincoln Elementary PTO.&nbsp\; All past and present students and their families welcome.</p>\n
LOCATION:
UID:e.41.5359
SEQUENCE:3
DTSTAMP:20260422T185446Z
URL:https://business.beatricechamber.com/events/details/lincoln-elementary-school-s-55th-anniversary-02-24-2012-5359
END:VEVENT

END:VCALENDAR
