BEGIN:VCALENDAR
VERSION:2.0
PRODID:-//ChamberMaster//Event Calendar 2.0//EN
METHOD:PUBLISH
X-PUBLISHED-TTL:P3D
REFRESH-INTERVAL:P3D
CALSCALE:GREGORIAN
BEGIN:VEVENT
DTSTART:20090717T230000Z
DTEND:20090718T020000Z
X-MICROSOFT-CDO-ALLDAYEVENT:FALSE
SUMMARY:Little Italy - Beatrice Humane Society Anniversary Celebration
DESCRIPTION:Join us for a night in "Little Italy"Celebrate theBeatrice Humane Society's10th AnniversarySponsored by Pinnacle Bank Friday\, July 17thClassic's Bar & GrillBeatrice Country Club13th & Oak StTickets $35 each - includes meal and a show 6:00 - 6:45 Social Hour - cash bar6:45 - 7:45 Dinner8:00  Gayle Becwar Featured Performer:  Gayle Becwar - fresh\, fast-paced comedywith a magical touch!  Call 228-1900 for more information
X-ALT-DESC;FMTTYPE=text/html:<div>Join us for a night in &quot\;Little Italy&quot\;</div><div>Celebrate theBeatrice Humane Society's</div><div>10th Anniversary</div><div>Sponsored by Pinnacle Bank</div><div>&nbsp\;</div><div>Friday\, July 17th</div><div>Classic's Bar &amp\; Grill</div><div>Beatrice Country Club</div><div>13th &amp\; Oak St</div><div>Tickets $35 each - includes meal and a show</div><div>&nbsp\;</div><div>6:00 - 6:45 Social Hour - cash bar</div><div>6:45 - 7:45 Dinner</div><div>8:00&nbsp\; Gayle Becwar</div><div>&nbsp\;</div><div>Featured Performer:&nbsp\; Gayle Becwar - fresh\, fast-paced comedy</div><div>with a magical touch!&nbsp\;</div><div>&nbsp\;</div><div>Call 228-1900 for more information</div>
LOCATION:
UID:e.41.1263
SEQUENCE:3
DTSTAMP:20260426T030417Z
URL:https://business.beatricechamber.com/events/details/little-italy-beatrice-humane-society-anniversary-celebration-07-17-2009-1263
END:VEVENT

END:VCALENDAR
