BEGIN:VCALENDAR
VERSION:2.0
PRODID:-//ChamberMaster//Event Calendar 2.0//EN
METHOD:PUBLISH
X-PUBLISHED-TTL:P3D
REFRESH-INTERVAL:P3D
CALSCALE:GREGORIAN
BEGIN:VEVENT
DTSTART:20110616T210000Z
DTEND:20110616T230000Z
X-MICROSOFT-CDO-ALLDAYEVENT:FALSE
SUMMARY:Live Radio Remote
DESCRIPTION:Live Radio Remote with KWBE 1450 AM/KUTT 99.5 FM\n\n\n\nWin prizes & follow Homestead Days!\n\nThursday\, June 16\n\n4 - 6 pm\n\n\n\n@ EBBA Family Fun Night\n\nBeatrice High School\n\n600 Orange Blvd\, Beatrice\, NE
X-ALT-DESC;FMTTYPE=text/html:Live Radio Remote with KWBE 1450 AM/KUTT 99.5 FM<br />\n<br />\nWin prizes &amp\; follow Homestead Days!<br />\nThursday\, June 16<br />\n4 - 6 pm<br />\n<br />\n@ EBBA Family Fun Night<br />\nBeatrice High School<br />\n600 Orange Blvd\, Beatrice\, NE<br />\n<br />\n
LOCATION:
UID:e.41.4906
SEQUENCE:3
DTSTAMP:20260424T165608Z
URL:https://business.beatricechamber.com/events/details/live-radio-remote-06-16-2011-4906
END:VEVENT

END:VCALENDAR
