BEGIN:VCALENDAR
VERSION:2.0
PRODID:-//ChamberMaster//Event Calendar 2.0//EN
METHOD:PUBLISH
X-PUBLISHED-TTL:P3D
REFRESH-INTERVAL:P3D
CALSCALE:GREGORIAN
BEGIN:VEVENT
DTSTART:20110617T210000Z
DTEND:20110617T230000Z
X-MICROSOFT-CDO-ALLDAYEVENT:FALSE
SUMMARY:Live Radio Remote
DESCRIPTION:Live Radio Remote with KWBE 1450 AM/KUTT 99.5 FM\n\n\n\nWin prizes & follow Homestead Days!\n\nFriday\, June 17\n\n4 - 6 pm\n\n\n\n@ Chautauqua Park\n\nBeatrice\, NE
X-ALT-DESC;FMTTYPE=text/html:Live Radio Remote with KWBE 1450 AM/KUTT 99.5 FM<br />\n<br />\nWin prizes &amp\; follow Homestead Days!<br />\nFriday\, June 17<br />\n4 - 6 pm<br />\n<br />\n@ Chautauqua Park<br />\nBeatrice\, NE<br />\n
LOCATION:
UID:e.41.4907
SEQUENCE:3
DTSTAMP:20260424T165609Z
URL:https://business.beatricechamber.com/events/details/live-radio-remote-06-17-2011-4907
END:VEVENT

END:VCALENDAR
