BEGIN:VCALENDAR
VERSION:2.0
PRODID:-//ChamberMaster//Event Calendar 2.0//EN
METHOD:PUBLISH
X-PUBLISHED-TTL:P3D
REFRESH-INTERVAL:P3D
CALSCALE:GREGORIAN
BEGIN:VEVENT
DTSTART:20110618T163000Z
DTEND:20110618T183000Z
X-MICROSOFT-CDO-ALLDAYEVENT:FALSE
SUMMARY:Live Radio Remote
DESCRIPTION:Live Radio Remote with KWBE 1450 AM/KUTT 99.5 FM\n\n\n\nWin prizes & follow Homestead Days!\n\nSaturday\, June 18\n\n11:30 am - 1:30 pm\n\n\n\n@ Chautauqua Park\n\nBeatrice\, NE
X-ALT-DESC;FMTTYPE=text/html:Live Radio Remote with KWBE 1450 AM/KUTT 99.5 FM<br />\n<br />\nWin prizes &amp\; follow Homestead Days!<br />\nSaturday\, June 18<br />\n11:30 am - 1:30 pm<br />\n<br />\n@ Chautauqua Park<br />\nBeatrice\, NE
LOCATION:
UID:e.41.4908
SEQUENCE:3
DTSTAMP:20260424T165608Z
URL:https://business.beatricechamber.com/events/details/live-radio-remote-06-18-2011-4908
END:VEVENT

END:VCALENDAR
