BEGIN:VCALENDAR
VERSION:2.0
PRODID:-//ChamberMaster//Event Calendar 2.0//EN
METHOD:PUBLISH
X-PUBLISHED-TTL:P3D
REFRESH-INTERVAL:P3D
CALSCALE:GREGORIAN
BEGIN:VEVENT
DTSTART:20120901T150000Z
DTEND:20120901T210000Z
X-MICROSOFT-CDO-ALLDAYEVENT:FALSE
SUMMARY:Living History Extravaganza at Homestead National Monument of America
DESCRIPTION:September 1-3 from 10 a.m. to 4 p.m.\n\n\n\nVisitors can try their hand at pioneer activities.
X-ALT-DESC;FMTTYPE=text/html:<strong>September 1-3 from 10 a.m. to 4 p.m.</strong><br />\n<br />\nVisitors can try their hand at pioneer activities.
LOCATION:
UID:e.41.6618
SEQUENCE:3
DTSTAMP:20260422T091430Z
URL:https://business.beatricechamber.com/events/details/living-history-extravaganza-at-homestead-national-monument-of-america-09-01-2012-6618
END:VEVENT

END:VCALENDAR
