BEGIN:VCALENDAR
VERSION:2.0
PRODID:-//ChamberMaster//Event Calendar 2.0//EN
METHOD:PUBLISH
X-PUBLISHED-TTL:P3D
REFRESH-INTERVAL:P3D
CALSCALE:GREGORIAN
BEGIN:VEVENT
DTSTART:20110905T150000Z
DTEND:20110905T210000Z
X-MICROSOFT-CDO-ALLDAYEVENT:FALSE
SUMMARY:Living History Extravaganza at Homestead National Monument of America
DESCRIPTION:10 a.m.-4 p.m.\, today through Labor Day\, at both the Education and Heritage Centers\, four miles west of Beatrice\, Highway 4.  Freeman School\, historic one room schoolhouse will be open.\n\n\n\nFor more information\, call 402-223-3514 or visit www.nps.gov/home.  Open 8:30 a.m.-6 p.m. daily .
X-ALT-DESC;FMTTYPE=text/html:10 a.m.-4 p.m.\, today through Labor Day\, at both the Education and Heritage Centers\, four miles west of Beatrice\, Highway 4.&nbsp\; Freeman School\, historic one room schoolhouse will be open.<br />\n<br />\nFor more information\, call 402-223-3514 or visit <a href="http://www.nps.gov/home">www.nps.gov/home</a>.&nbsp\; Open 8:30 a.m.-6 p.m. daily<span _fck_bookmark="1" style="display: none">&nbsp\;</span>.
LOCATION:
UID:e.41.5087
SEQUENCE:3
DTSTAMP:20260424T123414Z
URL:https://business.beatricechamber.com/events/details/living-history-extravaganza-at-homestead-national-monument-of-america-09-05-2011-5087
END:VEVENT

END:VCALENDAR
