BEGIN:VCALENDAR
VERSION:2.0
PRODID:-//ChamberMaster//Event Calendar 2.0//EN
METHOD:PUBLISH
X-PUBLISHED-TTL:P3D
REFRESH-INTERVAL:P3D
CALSCALE:GREGORIAN
BEGIN:VEVENT
DTSTART:20100223T173000Z
DTEND:20100223T190000Z
X-MICROSOFT-CDO-ALLDAYEVENT:FALSE
SUMMARY:Lunch & Learn
DESCRIPTION:Lunch and Learn"Interent Safety for families"Presented by: Investigator Tina Vath *Dangers of the Internet*How to use the Internet safely*What types of things to look for on your child's computer*How to keep your child safe on the Internet  Tuesday\, February 23\, 201011:30 a.m. - 1 p.m.Valentino's Terrace Room Contact Beatrice Area Chamber of Commerce for your reservations. Reservations will be made upon receipt of payment.  Cancellations must be made 48 hours prior to the event for a full refund.
X-ALT-DESC;FMTTYPE=text/html:<div style="text-align: center"><span style="color: #000080"><span style="font-size: large">Lunch and Learn</span></span></div><div style="text-align: center"><span style="color: #000080"><span style="font-size: large">&quot\;Interent Safety for families&quot\;</span></span></div><div style="text-align: center"><span style="color: #000080"><span style="font-size: large">Presented by: Investigator Tina Vath</span></span></div><div style="text-align: center">&nbsp\;</div><div style="text-align: center"><span style="font-size: medium">*Dangers of the Internet</span></div><div style="text-align: center"><span style="font-size: medium">*How to use the Internet safely</span></div><div style="text-align: center"><span style="font-size: medium">*What types of things to look for on your child&rsquo\;s computer</span></div><div style="text-align: center"><span style="font-size: medium">*How to keep your child safe on the Internet</span></div><div style="text-align: center">&nbsp\;</div><div>&nbsp\;</div><div style="text-align: center"><span style="font-size: medium">Tuesday\, February 23\, 2010</span></div><div style="text-align: center"><span style="font-size: medium">11:30 a.m. - 1 p.m.</span></div><div style="text-align: center"><span style="font-size: medium">Valentino&rsquo\;s Terrace Room</span></div><div style="text-align: center">&nbsp\;</div><div style="text-align: left"><span style="font-size: medium"><span style="font-size: small">Contact Beatrice Area Chamber of Commerce for your reservations. Reservations will be made upon receipt of payment.&nbsp\; Cancellations must be made 48 hours prior to the event for a full refund.</span></span></div>
LOCATION:Valentino's Terrace Room701 Court StreetBeatrice\, NE
UID:e.41.1609
SEQUENCE:3
DTSTAMP:20260425T164313Z
URL:https://business.beatricechamber.com/events/details/lunch-learn-02-23-2010-1609
END:VEVENT

END:VCALENDAR
