BEGIN:VCALENDAR
VERSION:2.0
PRODID:-//ChamberMaster//Event Calendar 2.0//EN
METHOD:PUBLISH
X-PUBLISHED-TTL:P3D
REFRESH-INTERVAL:P3D
CALSCALE:GREGORIAN
BEGIN:VEVENT
DTSTART:20090623T163000Z
DTEND:20090623T180000Z
X-MICROSOFT-CDO-ALLDAYEVENT:FALSE
SUMMARY:Lunch & Learn
DESCRIPTION:"Disaster Preparedness"Presented by:Gage County Emergency Management          Appropriate evacuation during Weather conditions at the Workplace         Intruders in Building/ Uncomfortable Situation         Possible Emergency Situations         Tornado         Natural Disaster         Bio-Hazard
X-ALT-DESC;FMTTYPE=text/html:<div><font face="TTE1CB8460t00" size="7"><font face="TTE1CB8460t00" size="6"><p align="left"><div style="margin: 0in 0in 0pt 2.6in">&nbsp\;</div><strong><font size="6"><span style="font-weight: normal\; font-size: 26pt\; color: windowtext">&ldquo\;Disaster Preparedness&rdquo\;</span></font></strong></p><div style="margin: 0in 0in 0pt 0.1in"><strong><font size="6"><font color="#9999c1"><font size="5">Presented by<span style="font-size: 20pt">:</span><font size="5">Gage County Emergency Management</font></font></font></font></strong></div><div style="margin: 0in 0in 0pt 0.1in"><strong><font size="6">&nbsp\;</font></strong></div><div style="margin: 0in 0in 0pt 0.75in\; text-indent: -0.25in"><strong><font size="6"><span style="font-weight: normal\; color: windowtext"><font size="5">&middot\;</font><span style="font: 7pt 'Times New Roman'">&nbsp\;&nbsp\;&nbsp\;&nbsp\;&nbsp\;&nbsp\;&nbsp\; </span></span><font size="5"><span style="color: windowtext">Appropriate evacuation during Weather conditions at the Workplace</span></font></font></strong></div><div style="margin: 0in 0in 0pt 0.75in\; text-indent: -0.25in"><strong><font size="6"><span style="font-weight: normal\; color: windowtext"><font size="5">&middot\;</font><span style="font: 7pt 'Times New Roman'">&nbsp\;&nbsp\;&nbsp\;&nbsp\;&nbsp\;&nbsp\;&nbsp\; </span></span><span style="color: windowtext"><font size="5">Intruders in Building/ Uncomfortable Situation</font></span></font></strong></div><div style="margin: 0in 0in 0pt 0.75in\; text-indent: -0.25in"><strong><font size="6"><span style="font-weight: normal\; color: windowtext"><font size="5">&middot\;</font><span style="font: 7pt 'Times New Roman'">&nbsp\;&nbsp\;&nbsp\;&nbsp\;&nbsp\;&nbsp\;&nbsp\; </span></span><font size="5"><span style="color: windowtext">Possible Emergency Situations</span></font></font></strong></div><div style="margin: 0in 0in 0pt 1.75in\; text-indent: -0.25in\; line-height: normal"><strong><font size="6"><span style="font-weight: normal\; color: windowtext"><font size="5">&sect\;</font><span style="font: 7pt 'Times New Roman'">&nbsp\;&nbsp\;&nbsp\;&nbsp\;&nbsp\;&nbsp\;&nbsp\; </span></span><font size="5"><span style="color: windowtext">Tornado</span></font></font></strong></div><div style="margin: 0in 0in 0pt 1.75in\; text-indent: -0.25in\; line-height: normal"><strong><font size="6"><span style="font-weight: normal\; color: windowtext"><font size="5">&sect\;</font><span style="font: 7pt 'Times New Roman'">&nbsp\;&nbsp\;&nbsp\;&nbsp\;&nbsp\;&nbsp\;&nbsp\; </span></span><font size="5"><span style="color: windowtext">Natural Disaster</span></font></font></strong></div><div style="margin: 0in 0in 0pt 1.75in\; text-indent: -0.25in\; line-height: normal"><strong><font size="6"><span style="font-weight: normal\; color: windowtext"><font size="5">&sect\;</font><span style="font: 7pt 'Times New Roman'">&nbsp\;&nbsp\;&nbsp\;&nbsp\;&nbsp\;&nbsp\;&nbsp\; </span></span><span style="color: windowtext"><font size="5">Bio-Hazard</font></span></font></strong></div></font></font></div>
LOCATION:Valentino's
UID:e.41.1247
SEQUENCE:3
DTSTAMP:20260426T042600Z
URL:https://business.beatricechamber.com/events/details/lunch-learn-06-23-2009-1247
END:VEVENT

END:VCALENDAR
