BEGIN:VCALENDAR
VERSION:2.0
PRODID:-//ChamberMaster//Event Calendar 2.0//EN
METHOD:PUBLISH
X-PUBLISHED-TTL:P3D
REFRESH-INTERVAL:P3D
CALSCALE:GREGORIAN
BEGIN:VEVENT
DTSTART:20090929T163000Z
DTEND:20090929T180000Z
X-MICROSOFT-CDO-ALLDAYEVENT:FALSE
SUMMARY:Lunch & Learn
DESCRIPTION:"Wellness In The Workplace"Presented by:  EngagementHealth -Ted Theophilos-CEO          Appropriate education on wellness in the workplace         Comprehensive programs   creating healthier and more productive employees         Saving your business money on Healthcare
X-ALT-DESC;FMTTYPE=text/html:<div><div style="margin: 0in 0in 0pt 0.1in" align="center"><b><font size="6"><span style="font-weight: normal\; font-size: 26pt\; color: windowtext">&ldquo\;</span><span style="font-weight: normal\; font-size: 22pt\; color: windowtext">Wellness In The Workplace&rdquo\;</span></font></b></div><div style="margin: 0in 0in 0pt 0.1in"><b><font size="6"><font color="#9999c1"><font size="5">Presented by<span style="font-size: 20pt">:&nbsp\; </span><font size="5">EngagementHealth&reg\;-</font></font></font></font></b></div><div style="margin: 0in 0in 0pt 0.1in"><b><font size="6"><font color="#9999c1"><font size="5"><font size="5">Ted Theophilos-CEO</font></font></font></font></b></div><div style="margin: 0in 0in 0pt 0.1in"><b><font size="6">&nbsp\;</font></b></div><div style="margin: 0in 0in 0pt 0.75in\; text-indent: -0.25in"><b><font size="6"><span style="font-weight: normal\; color: windowtext"><font size="5">&middot\;</font><span style="font: 7pt 'Times New Roman'">&nbsp\;&nbsp\;&nbsp\;&nbsp\;&nbsp\;&nbsp\;&nbsp\; </span></span><font size="5"><span style="color: windowtext">Appropriate education on wellness in the workplace</span></font></font></b></div><div style="margin: 0in 0in 0pt 0.75in\; text-indent: -0.25in"><b><font size="6"><span style="font-weight: normal\; color: windowtext"><font size="5">&middot\;</font><span style="font: 7pt 'Times New Roman'">&nbsp\;&nbsp\;&nbsp\;&nbsp\;&nbsp\;&nbsp\;&nbsp\; </span></span><span style="color: windowtext"><font size="5">Comprehensive programs &ndash\; creating healthier and more productive employees</font></span></font></b></div><div style="margin: 0in 0in 0pt 0.75in\; text-indent: -0.25in"><b><font size="6"><span style="font-weight: normal\; color: windowtext"><font size="5">&middot\;</font><span style="font: 7pt 'Times New Roman'">&nbsp\;&nbsp\;&nbsp\;&nbsp\;&nbsp\;&nbsp\;&nbsp\; </span></span><span style="color: windowtext"><font size="5">Saving your business money on Healthcare</font></span></font></b></div></div>
LOCATION:Valentino's
UID:e.41.1407
SEQUENCE:3
DTSTAMP:20260425T232951Z
URL:https://business.beatricechamber.com/events/details/lunch-learn-09-29-2009-1407
END:VEVENT

END:VCALENDAR
