BEGIN:VCALENDAR
VERSION:2.0
PRODID:-//ChamberMaster//Event Calendar 2.0//EN
METHOD:PUBLISH
X-PUBLISHED-TTL:P3D
REFRESH-INTERVAL:P3D
CALSCALE:GREGORIAN
BEGIN:VEVENT
DTSTART:20111108T173000Z
DTEND:20111108T190000Z
X-MICROSOFT-CDO-ALLDAYEVENT:FALSE
SUMMARY:Lunch & Learn: Destructive Behaviors in the Workplace
DESCRIPTION:Lunch & Learn: Destructive Behaviors in the Workplace\n\npresented by Hope Crisis Center\n\n\n\nTuesday\, November 8\n\n11:30 am - 1 pm\n\n\n\nBeatrice City Auditorium Conference Room\n\n205 N 4th Street\, Beatrice\, NE  68310\n\n\n\nFor registration information\, www.beatricechamber.com or 402-223-2338
X-ALT-DESC;FMTTYPE=text/html:Lunch &amp\; Learn: Destructive Behaviors in the Workplace<br />\npresented by Hope Crisis Center<br />\n<br />\nTuesday\, November 8<br />\n11:30 am - 1 pm<br />\n<br />\nBeatrice City Auditorium Conference Room<br />\n205 N 4th Street\, Beatrice\, NE&nbsp\; 68310<br />\n<br />\nFor registration information\, <a href="http://www.beatricechamber.com">www.beatricechamber.com</a> or 402-223-2338
LOCATION:
UID:e.41.5177
SEQUENCE:3
DTSTAMP:20260424T111009Z
URL:https://business.beatricechamber.com/events/details/lunch-learn-destructive-behaviors-in-the-workplace-11-08-2011-5177
END:VEVENT

END:VCALENDAR
