BEGIN:VCALENDAR
VERSION:2.0
PRODID:-//ChamberMaster//Event Calendar 2.0//EN
METHOD:PUBLISH
X-PUBLISHED-TTL:P3D
REFRESH-INTERVAL:P3D
CALSCALE:GREGORIAN
BEGIN:VEVENT
DTSTART;VALUE=DATE:20120403
DTEND;VALUE=DATE:20120404
TRANSP:TRANSPARENT
X-MICROSOFT-CDO-ALLDAYEVENT:TRUE
SUMMARY:Lunch & Learn: Microsoft Excel
DESCRIPTION:Beatrice Area Chamber of Commerce's Lunch & Learn:\n\nMicrosoft Excel: A Tips & Tricks Session to take your spreadsheets to the next level!\n\n\n\nPresented by Kristin Zarybnicky & Angie Bruna\n\n\n\nTuesday\, April 3\n\n11:30 am - 1 pm\n\n\n\nBeatrice Area Chamber of Commerce\, 205 N 4th Street\, Beatrice\n\n\n\n$10 for Non-Chamber Members\n\n$No Fee! For Chamber Members!\n\n\n\n\n\nVisit www.beatricechamber.com for registration form - RSVP\, space is limited!\n\n402-223-2338
X-ALT-DESC;FMTTYPE=text/html:Beatrice Area Chamber of Commerce&#39\;s Lunch &amp\; Learn:<br />\nMicrosoft Excel: A Tips &amp\; Tricks Session to take your spreadsheets to the next level!<br />\n<br />\nPresented by Kristin Zarybnicky &amp\; Angie Bruna<br />\n<br />\nTuesday\, April 3<br />\n11:30 am - 1 pm<br />\n<br />\nBeatrice Area Chamber of Commerce\, 205 N 4th Street\, Beatrice<br />\n<br />\n$10 for Non-Chamber Members<br />\n$No Fee! For Chamber Members!<br />\n<br />\n<br />\nVisit www.beatricechamber.com for registration form - RSVP\, space is limited!<br />\n402-223-2338<br />\n
LOCATION:
UID:e.41.5413
SEQUENCE:3
DTSTAMP:20260422T154406Z
URL:https://business.beatricechamber.com/events/details/lunch-learn-microsoft-excel-04-03-2012-5413
END:VEVENT

END:VCALENDAR
