BEGIN:VCALENDAR
VERSION:2.0
PRODID:-//ChamberMaster//Event Calendar 2.0//EN
METHOD:PUBLISH
X-PUBLISHED-TTL:P3D
REFRESH-INTERVAL:P3D
CALSCALE:GREGORIAN
BEGIN:VEVENT
DTSTART:20111025T163000Z
DTEND:20111025T180000Z
X-MICROSOFT-CDO-ALLDAYEVENT:FALSE
SUMMARY:Lunch & Learn: Microsoft Office & Word
DESCRIPTION:Lunch & Learn with Beatrice Area Chamber of Commerce\n\nMicrosoft Office & Word: A Tips & Tricks Session\n\npresented by Blackburn Technologies and Beatrice Area Chamber of Commerce\n\n\n\nTuesday\, October 25\n\n11:30 am - 1 pm\n\n\n\nCity Auditorium Conference Room\n\n205 N 4th Street\, Beatrice\, NE  68310\n\n\n\nFor more information & to register: www.beatricechamber.com or 402-223-2338.
X-ALT-DESC;FMTTYPE=text/html:Lunch &amp\; Learn with Beatrice Area Chamber of Commerce<br />\nMicrosoft Office &amp\; Word: A Tips &amp\; Tricks Session<br />\npresented by Blackburn Technologies and Beatrice Area Chamber of Commerce<br />\n<br />\nTuesday\, October 25<br />\n11:30 am - 1 pm<br />\n<br />\nCity Auditorium Conference Room<br />\n205 N 4th Street\, Beatrice\, NE&nbsp\; 68310<br />\n<br />\nFor more information &amp\; to register: <a href="http://www.beatricechamber.com">www.beatricechamber.com</a> or 402-223-2338.<br />\n<br />\n<br />\n<br />\n
LOCATION:
UID:e.41.5176
SEQUENCE:3
DTSTAMP:20260424T110301Z
URL:https://business.beatricechamber.com/events/details/lunch-learn-microsoft-office-word-10-25-2011-5176
END:VEVENT

END:VCALENDAR
