BEGIN:VCALENDAR
VERSION:2.0
PRODID:-//ChamberMaster//Event Calendar 2.0//EN
METHOD:PUBLISH
X-PUBLISHED-TTL:P3D
REFRESH-INTERVAL:P3D
CALSCALE:GREGORIAN
BEGIN:VEVENT
DTSTART:20101102T163000Z
DTEND:20101102T180000Z
X-MICROSOFT-CDO-ALLDAYEVENT:FALSE
SUMMARY:Lunch & Learn - The Power of Email Marketing
DESCRIPTION:Beatrice Area Chamber of Commerce\n\npresents\n\n \n\n"LUNCH & LEARN" - The Power of Email Marketing\n\nTuesday\, November 2\n\n11:30 - 1:00 p.m.\n\nValentino's Terrace Room\n\n\n\nCLICK HERE FOR REGISTRATION FORM\n\n\n\nREV UP Your Customer Relationships\, Referrals & Revenues with Email Marketing!   Are you looking for a way to market on a shoestring budget?  Finding it hard to get results with your current marketing? Spending lots of money on marketing but getting no returns? Looking for a way to educate\, thank\, remind\, and connect better with your customers?  Wanting to beef up your referrals and revenues? Then come to the "Rev Up Your Relationships\, Referrals and Revenues with Email Marketing and learn how you can get raving results without deep pockets.\n\n\n\nThis seminar is for anyone that wants to learn more about email marketing!   \n\n \n\nYou will learn \n\n  What email marketing "is" and "is not"\n\n  Why businesses are using email marketing today\n\n  The " do's" and "don'ts" of email marketing\n\n  Best email practices to help you create successful email campaigns\n\n  How email marketing can teach you what your customers really want\n\n  How your email can help you go social
X-ALT-DESC;FMTTYPE=text/html:&nbsp\;<span style="language: en"><span style="font-size: 22pt"><span style="font-family: barbedor t heavy">Beatrice Area Chamber of Commerce</span></span></span><br />\n<span style="font-weight: bold\; language: en"><span style="font-size: 18pt"><span style="font-family: bradley hand itc">presents</span></span></span><br />\n&nbsp\;<br />\n<span style="font-weight: bold\; language: en"><span style="font-size: 22pt"><span style="font-family: baskerville old face">&ldquo\;LUNCH &amp\; LEARN&rdquo\; - The Power of Email Marketing</span></span></span><br />\n<span style="font-weight: bold\; language: en"><span style="font-size: 18pt"><span style="font-family: arial">Tuesday\, November 2</span></span></span><br />\n<span style="font-weight: bold\; language: en"><span style="font-size: 18pt"><span style="font-family: arial">11:30 - 1:00 p.m.</span></span></span><br />\n<span style="font-weight: bold\; language: en"><span style="font-size: 18pt"><span style="font-family: arial">Valentino&rsquo\;s Terrace Room<br />\n<br />\n<a href="http://cloud.chambermaster.com/userfiles/UserFiles/chambers/41/File/November%202%20Constant%20Contact.pdf"><strong><font face="Arial" size="3">CLICK HERE FOR REGISTRATION FORM</font></strong></a><br />\n<br />\n<span style="font-weight: bold\; language: en"><span style="font-size: 12pt"><span style="font-family: arial">REV UP Your Customer Relationships\, Referrals &amp\; Revenues with Email Marketing!&nbsp\;&nbsp\; </span></span></span><span style="language: en"><span style="font-size: 12pt"><span style="font-family: arial">Are you looking for a way to market on a shoestring budget?&nbsp\; Finding it hard to get results with your current marketing? Spending lots of money on marketing but getting no returns? Looking for a way to educate\, thank\, remind\, and connect better with your customers?&nbsp\; Wanting to beef up your referrals and revenues? Then come to the &ldquo\;Rev Up Your Relationships\, Referrals and&nbsp\;</span></span></span><span style="language: en"><span style="font-size: 12pt"><span style="font-family: arial">Revenues with Email Marketing and learn how you can get raving results without deep pockets.</span></span></span><br />\n<br />\n<span style="font-style: italic\; language: en"><span style="font-size: 14pt"><span style="font-family: arial">This seminar is for anyone that&nbsp\;wants to learn more about email marketing!&nbsp\;&nbsp\;&nbsp\;</span></span></span><br />\n&nbsp\;<br />\n<span style="font-weight: bold\; language: en"><span style="font-size: 12pt"><span style="font-family: arial">You will learn&hellip\;</span></span></span><br />\n<span style="unicode-bidi: embed\; direction: ltr\; language: x-none"><span style="font-size: 10pt"><span style="color: black"><span style="font-family: symbol">&middot\;</span></span></span></span>&nbsp\;<span style="language: en"><span style="font-size: 12pt"><span style="font-family: arial">What email marketing &ldquo\;is&rdquo\; and &ldquo\;is not&rdquo\;</span></span></span><br />\n<span style="unicode-bidi: embed\; direction: ltr\; language: x-none"><span style="font-size: 10pt"><span style="color: black"><span style="font-family: symbol">&middot\;</span></span></span></span>&nbsp\;<span style="language: en"><span style="font-size: 12pt"><span style="font-family: arial">Why businesses are using email marketing today</span></span></span><br />\n<span style="unicode-bidi: embed\; direction: ltr\; language: x-none"><span style="font-size: 10pt"><span style="color: black"><span style="font-family: symbol">&middot\;</span></span></span></span>&nbsp\;<span style="language: en"><span style="font-size: 12pt"><span style="font-family: arial">The &ldquo\; do&rsquo\;s&rdquo\; and &ldquo\;don&rsquo\;ts&rdquo\; of email marketing</span></span></span><br />\n<span style="unicode-bidi: embed\; direction: ltr\; language: x-none"><span style="font-size: 10pt"><span style="color: black"><span style="font-family: symbol">&middot\;</span></span></span></span>&nbsp\;<span style="language: en"><span style="font-size: 12pt"><span style="font-family: arial">Best email practices to help you create successful email campaigns</span></span></span><br />\n<span style="unicode-bidi: embed\; direction: ltr\; language: x-none"><span style="font-size: 10pt"><span style="color: black"><span style="font-family: symbol">&middot\;</span></span></span></span>&nbsp\;<span style="language: en"><span style="font-size: 12pt"><span style="font-family: arial">How email marketing can teach you what your customers really want</span></span></span><br />\n<span style="language: en"><span style="font-size: 12pt"><span style="font-family: arial"><strong><span style="unicode-bidi: embed\; direction: ltr\; language: x-none"><span style="font-size: 10pt"><span style="color: black"><span style="font-family: symbol">&middot\;</span></span></span></span><font face="Arial" size="5">&nbsp\;</font></strong>How your email can help you go social&nbsp\;</span></span></span></span></span></span><br />\n<br />\n&nbsp\;&nbsp\;<br />\n
LOCATION:
UID:e.41.2686
SEQUENCE:3
DTSTAMP:20260425T032937Z
URL:https://business.beatricechamber.com/events/details/lunch-learn-the-power-of-email-marketing-11-02-2010-2686
END:VEVENT

END:VCALENDAR
