BEGIN:VCALENDAR
VERSION:2.0
PRODID:-//ChamberMaster//Event Calendar 2.0//EN
METHOD:PUBLISH
X-PUBLISHED-TTL:P3D
REFRESH-INTERVAL:P3D
CALSCALE:GREGORIAN
BEGIN:VEVENT
DTSTART:20110712T163000Z
DTEND:20110712T180000Z
X-MICROSOFT-CDO-ALLDAYEVENT:FALSE
SUMMARY:Lunch & Learn with BACC
DESCRIPTION:Lunch & Learn with Beatrice Area Chamber of Commerce\n\nTips & Tricks of Microsoft Excel\n\n\n\nTuesday\, July 12\n\n11:30 am - 1 pm\n\n\n\nBeatrice City Auditorium Conference Room\n\n\n\nNo admission fee for members of BACC\, $10 for non-members!  Bring your own lunch.\n\n\n\nClick here for reservation form.
X-ALT-DESC;FMTTYPE=text/html:<strong>Lunch &amp\; Learn with Beatrice Area Chamber of Commerce<br />\nTips &amp\; Tricks of Microsoft Excel</strong><br />\n<br />\nTuesday\, July 12<br />\n11:30 am - 1 pm<br />\n<br />\nBeatrice City Auditorium Conference Room<br />\n<br />\nNo admission fee for members of BACC\, $10 for non-members!&nbsp\; Bring your own lunch.<br />\n<br />\n<a href="http://assets.colenient.com/images/articles/3/lunchlearn/3-july_12_2011_microsoft_excel_lunch_and_learn.pdf">Click here</a> for reservation form.
LOCATION:
UID:e.41.4842
SEQUENCE:3
DTSTAMP:20260424T154722Z
URL:https://business.beatricechamber.com/events/details/lunch-learn-with-bacc-07-12-2011-4842
END:VEVENT

END:VCALENDAR
