BEGIN:VCALENDAR
VERSION:2.0
PRODID:-//ChamberMaster//Event Calendar 2.0//EN
METHOD:PUBLISH
X-PUBLISHED-TTL:P3D
REFRESH-INTERVAL:P3D
CALSCALE:GREGORIAN
BEGIN:VEVENT
DTSTART:20100207T170000Z
DTEND:20100207T190000Z
X-MICROSOFT-CDO-ALLDAYEVENT:FALSE
SUMMARY:LYF Soup Luncheon
DESCRIPTION:A free will offering Soup Luncheon will be held on Sunday\, February 7\, from 11:00 am- 1 p.m. at St. Paul's Lutheran School\, 930 Prairie Lane\, in Beatrice. Proceeds will help fund the trip for the St. Paul LYF to attend the National Youth Gathering in New Orleans in July.
X-ALT-DESC;FMTTYPE=text/html:<div><div><font size="3"><span style="font-size: 12pt">A free will offering Soup Luncheon will be held on Sunday\, February 7\, from 11:00 am- 1 p.m. at St. Paul&rsquo\;s Lutheran School\, 930 Prairie Lane\, in Beatrice. Proceeds will help fund the trip for the St. Paul LYF to attend the National Youth Gathering in New Orleans in July.</span></font></div></div>
LOCATION:
UID:e.41.1583
SEQUENCE:3
DTSTAMP:20260425T165255Z
URL:https://business.beatricechamber.com/events/details/lyf-soup-luncheon-02-07-2010-1583
END:VEVENT

END:VCALENDAR
