BEGIN:VCALENDAR
VERSION:2.0
PRODID:-//ChamberMaster//Event Calendar 2.0//EN
METHOD:PUBLISH
X-PUBLISHED-TTL:P3D
REFRESH-INTERVAL:P3D
CALSCALE:GREGORIAN
BEGIN:VEVENT
DTSTART;VALUE=DATE:20100424
DTEND;VALUE=DATE:20100425
TRANSP:TRANSPARENT
X-MICROSOFT-CDO-ALLDAYEVENT:TRUE
SUMMARY:Lyric Arts Trio Concert
DESCRIPTION:Lyric Arts Trio Concert Saturday\, April 24\, 20107 p.m.Hevelone Center for Performing ArtsBeatrice High School Sponsored by Beatrice Area Arts Council with support of the Hevelone Foundation.  No admission charge.
X-ALT-DESC;FMTTYPE=text/html:<div><span style="font-size: small">Lyric Arts Trio Concert</span></div><div>&nbsp\;</div><div><span style="font-size: small">Saturday\, April 24\, 2010</span></div><div><span style="font-size: small">7 p.m.</span></div><div><span style="font-size: small">Hevelone Center for Performing Arts</span></div><div><span style="font-size: small">Beatrice High School</span></div><div>&nbsp\;</div><div>Sponsored by Beatrice Area Arts Council with support of the Hevelone Foundation.&nbsp\;</div><div>&nbsp\;</div><div>No admission charge.</div>
LOCATION:
UID:e.41.1962
SEQUENCE:3
DTSTAMP:20260425T135449Z
URL:https://business.beatricechamber.com/events/details/lyric-arts-trio-concert-04-24-2010-1962
END:VEVENT

END:VCALENDAR
