BEGIN:VCALENDAR
VERSION:2.0
PRODID:-//ChamberMaster//Event Calendar 2.0//EN
METHOD:PUBLISH
X-PUBLISHED-TTL:P3D
REFRESH-INTERVAL:P3D
CALSCALE:GREGORIAN
BEGIN:VEVENT
DTSTART:20120323T000000Z
DTEND:20120323T020000Z
X-MICROSOFT-CDO-ALLDAYEVENT:FALSE
SUMMARY:MADD Nebraska Victim Impact Panel
DESCRIPTION:
X-ALT-DESC;FMTTYPE=text/html:
LOCATION:Southeast Community College\, Jackson Hall Conference Room
UID:e.41.5279
SEQUENCE:3
DTSTAMP:20260422T172143Z
URL:https://business.beatricechamber.com/events/details/madd-nebraska-victim-impact-panel-03-22-2012-5279
END:VEVENT

END:VCALENDAR
