BEGIN:VCALENDAR
VERSION:2.0
PRODID:-//ChamberMaster//Event Calendar 2.0//EN
METHOD:PUBLISH
X-PUBLISHED-TTL:P3D
REFRESH-INTERVAL:P3D
CALSCALE:GREGORIAN
BEGIN:VEVENT
DTSTART;VALUE=DATE:20111007
DTEND;VALUE=DATE:20111008
TRANSP:TRANSPARENT
X-MICROSOFT-CDO-ALLDAYEVENT:TRUE
SUMMARY:Magic of Main Street
DESCRIPTION:Experience a little magic during the 2011 Magic of Main Street Moonlight Masquerade\n\n	\n\n	Friday\, October 7\, 2011\n\n	7 pm\n\n	\n\n	The Kensington Ballroom\, Beatrice\n\n	\n\n	\n\n	For reservations and more information\, contact Main Street Beatrice\, 402-223-3244 or www.mainstreetbeatrice.org\n\n	\n\n	Event sponsored by Security First Bank
X-ALT-DESC;FMTTYPE=text/html:<p>\n	<span style="font-size: medium"><strong><span style="font-size: small"><span style="font-family: book antiqua\, palatino"><font face="Book Antiqua">Experience a little magic during the 2011 Magic of Main Street Moonlight Masquerade<br />\n	<br />\n	Friday\, October 7\, 2011<br />\n	7 pm<br />\n	<br />\n	The Kensington Ballroom\, Beatrice<br />\n	<br />\n	<br />\n	For reservations and more information\, contact Main Street Beatrice\, 402-223-3244 or www.mainstreetbeatrice.org<br />\n	<br />\n	Event sponsored by Security First Bank</font></span></span></strong></span><br />\n	<br />\n	&nbsp\;</p>\n
LOCATION:
UID:e.41.5135
SEQUENCE:3
DTSTAMP:20260424T111310Z
URL:https://business.beatricechamber.com/events/details/magic-of-main-street-10-07-2011-5135
END:VEVENT

END:VCALENDAR
