BEGIN:VCALENDAR
VERSION:2.0
PRODID:-//ChamberMaster//Event Calendar 2.0//EN
METHOD:PUBLISH
X-PUBLISHED-TTL:P3D
REFRESH-INTERVAL:P3D
CALSCALE:GREGORIAN
BEGIN:VEVENT
DTSTART:20120830T220000Z
DTEND:20120831T000000Z
X-MICROSOFT-CDO-ALLDAYEVENT:FALSE
SUMMARY:Main St. Farmers Market
DESCRIPTION:Fresh produce and baked goods.\n\n\n\nQuestions call 402-223-3244
X-ALT-DESC;FMTTYPE=text/html:Fresh produce and baked goods.<br />\n<br />\nQuestions call 402-223-3244
LOCATION:On Fifth St. between High and Ella streets
UID:e.41.6616
SEQUENCE:3
DTSTAMP:20260422T100703Z
URL:https://business.beatricechamber.com/events/details/main-st-farmers-market-08-30-2012-6616
END:VEVENT

END:VCALENDAR
