BEGIN:VCALENDAR
VERSION:2.0
PRODID:-//ChamberMaster//Event Calendar 2.0//EN
METHOD:PUBLISH
X-PUBLISHED-TTL:P3D
REFRESH-INTERVAL:P3D
CALSCALE:GREGORIAN
BEGIN:VEVENT
DTSTART:20110616T220000Z
DTEND:20110617T000000Z
X-MICROSOFT-CDO-ALLDAYEVENT:FALSE
SUMMARY:Main Street Beatrice Summer Farmers Market
DESCRIPTION:Main Street Beatrice Summer Farmers Market from 5-7 p.m. on Fifth Street next to Charles Park.  Fresh local produce.\n\n\n\nFor more information:  www.mainstreetbeatrice.org\; 402-223-3244\; e-mail: info@mainstreetbeatrice.org.
X-ALT-DESC;FMTTYPE=text/html:Main Street Beatrice Summer Farmers Market from 5-7 p.m. on Fifth Street next to Charles Park.&nbsp\; Fresh local produce.<br />\n<br />\nFor more information:&nbsp\; <a href="http://www.mainstreetbeatrice.org">www.mainstreetbeatrice.org</a>\; 402-223-3244\; e-mail: info@mainstreetbeatrice.org.<br />\n
LOCATION:
UID:e.41.4881
SEQUENCE:3
DTSTAMP:20260424T170013Z
URL:https://business.beatricechamber.com/events/details/main-street-beatrice-summer-farmers-market-06-16-2011-4881
END:VEVENT

END:VCALENDAR
