BEGIN:VCALENDAR
VERSION:2.0
PRODID:-//ChamberMaster//Event Calendar 2.0//EN
METHOD:PUBLISH
X-PUBLISHED-TTL:P3D
REFRESH-INTERVAL:P3D
CALSCALE:GREGORIAN
BEGIN:VEVENT
DTSTART:20120712T220000Z
DTEND:20120713T000000Z
X-MICROSOFT-CDO-ALLDAYEVENT:FALSE
SUMMARY:Main Street Farmers Market
DESCRIPTION:On Fifth St. between High and Ella streets. Fresh produced and baked goods. 402-223-3244.
X-ALT-DESC;FMTTYPE=text/html:On Fifth St. between High and Ella streets. Fresh produced and baked goods. 402-223-3244.
LOCATION:
UID:e.41.6317
SEQUENCE:3
DTSTAMP:20260422T114218Z
URL:https://business.beatricechamber.com/events/details/main-street-farmers-market-07-12-2012-6317
END:VEVENT

END:VCALENDAR
