BEGIN:VCALENDAR
VERSION:2.0
PRODID:-//ChamberMaster//Event Calendar 2.0//EN
METHOD:PUBLISH
X-PUBLISHED-TTL:P3D
REFRESH-INTERVAL:P3D
CALSCALE:GREGORIAN
BEGIN:VEVENT
DTSTART;VALUE=DATE:20120920
DTEND;VALUE=DATE:20120921
TRANSP:TRANSPARENT
X-MICROSOFT-CDO-ALLDAYEVENT:TRUE
SUMMARY:Main Street Farmers Market
DESCRIPTION:Main Street Farmers Market\n\n\n\nThursday\n\n5 - 7 pm\n\n\n\non Fifth Street between High and Ella Streets\n\n\n\nFresh produce and baked goods\n\n\n\nMain Street Beatrice\n\n402-223-3244
X-ALT-DESC;FMTTYPE=text/html:Main Street Farmers Market<br />\n<br />\nThursday<br />\n5 - 7 pm<br />\n<br />\non Fifth Street between High and Ella Streets<br />\n<br />\nFresh produce and baked goods<br />\n<br />\nMain Street Beatrice<br />\n402-223-3244
LOCATION:
UID:e.41.5958
SEQUENCE:3
DTSTAMP:20260422T091329Z
URL:https://business.beatricechamber.com/events/details/main-street-farmers-market-09-20-2012-5958
END:VEVENT

END:VCALENDAR
