BEGIN:VCALENDAR
VERSION:2.0
PRODID:-//ChamberMaster//Event Calendar 2.0//EN
METHOD:PUBLISH
X-PUBLISHED-TTL:P3D
REFRESH-INTERVAL:P3D
CALSCALE:GREGORIAN
BEGIN:VEVENT
DTSTART:20090807T130000Z
DTEND:20090807T140000Z
X-MICROSOFT-CDO-ALLDAYEVENT:FALSE
SUMMARY:Main Street Program Committee
DESCRIPTION:
X-ALT-DESC;FMTTYPE=text/html:
LOCATION:
UID:e.41.1327
SEQUENCE:3
DTSTAMP:20260426T011655Z
URL:https://business.beatricechamber.com/events/details/main-street-program-committee-08-07-2009-1327
END:VEVENT

END:VCALENDAR
