BEGIN:VCALENDAR
VERSION:2.0
PRODID:-//ChamberMaster//Event Calendar 2.0//EN
METHOD:PUBLISH
X-PUBLISHED-TTL:P3D
REFRESH-INTERVAL:P3D
CALSCALE:GREGORIAN
BEGIN:VEVENT
DTSTART;VALUE=DATE:20110406
DTEND;VALUE=DATE:20110407
TRANSP:TRANSPARENT
X-MICROSOFT-CDO-ALLDAYEVENT:TRUE
SUMMARY:Main Street Promotion Meeting
DESCRIPTION:Main Street Promotions Meeting\n\n\n\nWednesday\, April 6\n\n8 am\n\n\n\nMain Street Office\n\n205 N 4th Street\n\n\n\n(402)223-3244
X-ALT-DESC;FMTTYPE=text/html:Main Street Promotions Meeting<br />\n<br />\nWednesday\, April 6<br />\n8 am<br />\n<br />\nMain Street Office<br />\n205 N 4th Street<br />\n<br />\n(402)223-3244
LOCATION:
UID:e.41.4413
SEQUENCE:3
DTSTAMP:20260424T200114Z
URL:https://business.beatricechamber.com/events/details/main-street-promotion-meeting-04-06-2011-4413
END:VEVENT

END:VCALENDAR
