BEGIN:VCALENDAR
VERSION:2.0
PRODID:-//ChamberMaster//Event Calendar 2.0//EN
METHOD:PUBLISH
X-PUBLISHED-TTL:P3D
REFRESH-INTERVAL:P3D
CALSCALE:GREGORIAN
BEGIN:VEVENT
DTSTART:20110618T200000Z
DTEND:20110619T050000Z
X-MICROSOFT-CDO-ALLDAYEVENT:FALSE
SUMMARY:Main Street Ribfest
DESCRIPTION:Main Street Ribfest\, 3 p.m.-midnight at 4th and Ella Streets\, Beatrice.  Entertainment is also provided.\n\n\n\nFor more information call 402-223-3244.
X-ALT-DESC;FMTTYPE=text/html:Main Street Ribfest\, 3 p.m.-midnight at 4th and Ella Streets\, Beatrice.&nbsp\; Entertainment is also provided.<br />\n<br />\nFor more information call 402-223-3244.<br />\n<br />\n
LOCATION:
UID:e.41.4903
SEQUENCE:3
DTSTAMP:20260424T165610Z
URL:https://business.beatricechamber.com/events/details/main-street-ribfest-06-18-2011-4903
END:VEVENT

END:VCALENDAR
